BEGIN:VCALENDAR
VERSION:2.0
PRODID:-//SNUDI-FO 53 - ECPv6.15.17.1//NONSGML v1.0//EN
CALSCALE:GREGORIAN
METHOD:PUBLISH
X-ORIGINAL-URL:https://snudifo-53.fr
X-WR-CALDESC:Évènements pour SNUDI-FO 53
REFRESH-INTERVAL;VALUE=DURATION:PT1H
X-Robots-Tag:noindex
X-PUBLISHED-TTL:PT1H
BEGIN:VTIMEZONE
TZID:Europe/Paris
BEGIN:DAYLIGHT
TZOFFSETFROM:+0100
TZOFFSETTO:+0200
TZNAME:CEST
DTSTART:20240331T010000
END:DAYLIGHT
BEGIN:STANDARD
TZOFFSETFROM:+0200
TZOFFSETTO:+0100
TZNAME:CET
DTSTART:20241027T010000
END:STANDARD
BEGIN:DAYLIGHT
TZOFFSETFROM:+0100
TZOFFSETTO:+0200
TZNAME:CEST
DTSTART:20250330T010000
END:DAYLIGHT
BEGIN:STANDARD
TZOFFSETFROM:+0200
TZOFFSETTO:+0100
TZNAME:CET
DTSTART:20251026T010000
END:STANDARD
BEGIN:DAYLIGHT
TZOFFSETFROM:+0100
TZOFFSETTO:+0200
TZNAME:CEST
DTSTART:20260329T010000
END:DAYLIGHT
BEGIN:STANDARD
TZOFFSETFROM:+0200
TZOFFSETTO:+0100
TZNAME:CET
DTSTART:20261025T010000
END:STANDARD
END:VTIMEZONE
BEGIN:VEVENT
DTSTART;TZID=Europe/Paris:20251104T183000
DTEND;TZID=Europe/Paris:20251104T220000
DTSTAMP:20260422T163732
CREATED:20251006T144216Z
LAST-MODIFIED:20251006T144216Z
UID:15915-1762281000-1762293600@snudifo-53.fr
SUMMARY:RIS Craon - Ecole Constance Lainé
DESCRIPTION:Mardi 4 novembre\, 18h30 : Ecole Constance Lainé Craon \nInscription
URL:https://snudifo-53.fr/event/ris-craon-ecole-constance-laine/
LOCATION:Ecole Constance Lainé\, Rue de la Tour du Guet\, Craon\, 53400\, France
CATEGORIES:RIS
END:VEVENT
END:VCALENDAR