BEGIN:VCALENDAR
VERSION:2.0
PRODID:-//SNUDI-FO 53 - ECPv6.15.17.1//NONSGML v1.0//EN
CALSCALE:GREGORIAN
METHOD:PUBLISH
X-ORIGINAL-URL:https://snudifo-53.fr
X-WR-CALDESC:Évènements pour SNUDI-FO 53
REFRESH-INTERVAL;VALUE=DURATION:PT1H
X-Robots-Tag:noindex
X-PUBLISHED-TTL:PT1H
BEGIN:VTIMEZONE
TZID:Europe/Paris
BEGIN:DAYLIGHT
TZOFFSETFROM:+0100
TZOFFSETTO:+0200
TZNAME:CEST
DTSTART:20230326T010000
END:DAYLIGHT
BEGIN:STANDARD
TZOFFSETFROM:+0200
TZOFFSETTO:+0100
TZNAME:CET
DTSTART:20231029T010000
END:STANDARD
BEGIN:DAYLIGHT
TZOFFSETFROM:+0100
TZOFFSETTO:+0200
TZNAME:CEST
DTSTART:20240331T010000
END:DAYLIGHT
BEGIN:STANDARD
TZOFFSETFROM:+0200
TZOFFSETTO:+0100
TZNAME:CET
DTSTART:20241027T010000
END:STANDARD
BEGIN:DAYLIGHT
TZOFFSETFROM:+0100
TZOFFSETTO:+0200
TZNAME:CEST
DTSTART:20250330T010000
END:DAYLIGHT
BEGIN:STANDARD
TZOFFSETFROM:+0200
TZOFFSETTO:+0100
TZNAME:CET
DTSTART:20251026T010000
END:STANDARD
END:VTIMEZONE
BEGIN:VEVENT
DTSTART;TZID=Europe/Paris:20241119T173000
DTEND;TZID=Europe/Paris:20241119T203000
DTSTAMP:20260425T152312
CREATED:20241015T131602Z
LAST-MODIFIED:20241015T131602Z
UID:14160-1732037400-1732048200@snudifo-53.fr
SUMMARY:Réunion préparation liste d'aptitude direction d'école (LADE)
DESCRIPTION:RIS \n \n 
URL:https://snudifo-53.fr/event/reunion-preparation-liste-daptitude-direction-decole-lade/
LOCATION:UD FO 53\, 6 rue Souchu Servinière\, Laval\, 53000\, France
CATEGORIES:RIS
END:VEVENT
BEGIN:VEVENT
DTSTART;TZID=Europe/Paris:20241119T183000
DTEND;TZID=Europe/Paris:20241119T213000
DTSTAMP:20260425T152312
CREATED:20240926T122913Z
LAST-MODIFIED:20240926T122913Z
UID:14061-1732041000-1732051800@snudifo-53.fr
SUMMARY:ApéroRIS - Craon
DESCRIPTION:RIS \n \nImportant : Toutes les RIS (présentielles ou visio)\, sont régies par le décret 82-447 du 28 mai 1982\, modifié par le décret 2012-224 du 16 février 2012\, en application de l’exercice du droit syndical dans la Fonction publique. À ce titre\, elles ont été déclarées auprès du DASEN afin que les collègues qui y participeront puissent les déduire de leurs heures annualisées obligatoires (48h de concertation en équipe\, 18h de formation/animation/conférence pédagogique ou 6h de conseil d’école prévues par le décret n°2017-444 du 29 mars 2017). Pour cela\, ne pas oublier d’informer votre IEN de votre participation à une RIS avec le courriel type. \n\nVous avez droit de déduire 9h de vos obligations :\n– Soit 3 heures prises sur le temps d’enseignement et 6 heures prises sur le temps de réunions ou de formation\n– Soit 9 heures prises sur le temps de réunions ou de formation\nVous pouvez par exemple déduire 9h de RIS de vos heures d’animation pédagogique que vous choisirez (départementales ou optionnelles)
URL:https://snudifo-53.fr/event/aperoris-craon/
LOCATION:Ecole Constance Lainé\, Rue de la Tour du Guet\, Craon\, 53400\, France
CATEGORIES:RIS
END:VEVENT
END:VCALENDAR