BEGIN:VCALENDAR
VERSION:2.0
PRODID:-//SNUDI-FO 53 - ECPv6.15.17.1//NONSGML v1.0//EN
CALSCALE:GREGORIAN
METHOD:PUBLISH
X-WR-CALNAME:SNUDI-FO 53
X-ORIGINAL-URL:https://snudifo-53.fr
X-WR-CALDESC:Évènements pour SNUDI-FO 53
REFRESH-INTERVAL;VALUE=DURATION:PT1H
X-Robots-Tag:noindex
X-PUBLISHED-TTL:PT1H
BEGIN:VTIMEZONE
TZID:Europe/Paris
BEGIN:DAYLIGHT
TZOFFSETFROM:+0100
TZOFFSETTO:+0200
TZNAME:CEST
DTSTART:20250330T010000
END:DAYLIGHT
BEGIN:STANDARD
TZOFFSETFROM:+0200
TZOFFSETTO:+0100
TZNAME:CET
DTSTART:20251026T010000
END:STANDARD
BEGIN:DAYLIGHT
TZOFFSETFROM:+0100
TZOFFSETTO:+0200
TZNAME:CEST
DTSTART:20260329T010000
END:DAYLIGHT
BEGIN:STANDARD
TZOFFSETFROM:+0200
TZOFFSETTO:+0100
TZNAME:CET
DTSTART:20261025T010000
END:STANDARD
BEGIN:DAYLIGHT
TZOFFSETFROM:+0100
TZOFFSETTO:+0200
TZNAME:CEST
DTSTART:20270328T010000
END:DAYLIGHT
BEGIN:STANDARD
TZOFFSETFROM:+0200
TZOFFSETTO:+0100
TZNAME:CET
DTSTART:20271031T010000
END:STANDARD
END:VTIMEZONE
BEGIN:VEVENT
DTSTART;TZID=Europe/Paris:20260310T180000
DTEND;TZID=Europe/Paris:20260310T210000
DTSTAMP:20260420T133143
CREATED:20260212T151609Z
LAST-MODIFIED:20260212T151609Z
UID:16560-1773165600-1773176400@snudifo-53.fr
SUMMARY:RIS Craon
DESCRIPTION:RIS
URL:https://snudifo-53.fr/event/ris-craon-4/
LOCATION:Ecole Constance Lainé\, Rue de la Tour du Guet\, Craon\, 53400\, France
CATEGORIES:RIS
END:VEVENT
BEGIN:VEVENT
DTSTART;TZID=Europe/Paris:20260310T180000
DTEND;TZID=Europe/Paris:20260310T210000
DTSTAMP:20260420T133143
CREATED:20260212T151716Z
LAST-MODIFIED:20260212T151716Z
UID:16562-1773165600-1773176400@snudifo-53.fr
SUMMARY:RIS Mayenne
DESCRIPTION:RIS \n \nhttp://snudifo-53.fr/RIS/ \n 
URL:https://snudifo-53.fr/event/ris-mayenne-2/
LOCATION:école Rosa Parks Mayenne\, 53 Rue Lamartine\, 53100\, France
CATEGORIES:RIS
END:VEVENT
BEGIN:VEVENT
DTSTART;TZID=Europe/Paris:20260317T173000
DTEND;TZID=Europe/Paris:20260317T193000
DTSTAMP:20260420T133143
CREATED:20260213T130617Z
LAST-MODIFIED:20260213T130617Z
UID:16566-1773768600-1773775800@snudifo-53.fr
SUMMARY:RIS Meslay du Maine
DESCRIPTION:RIS \n \n 
URL:https://snudifo-53.fr/event/ris-meslay-du-maine/
LOCATION:Ecole René Cassin Meslay du Maine\, 2 Rue du Frère Jean Baptiste\, Meslay-du-Maine\, 53170\, France
CATEGORIES:RIS
END:VEVENT
BEGIN:VEVENT
DTSTART;TZID=Europe/Paris:20260318T133000
DTEND;TZID=Europe/Paris:20260318T163000
DTSTAMP:20260420T133143
CREATED:20260213T130711Z
LAST-MODIFIED:20260213T130711Z
UID:16569-1773840600-1773851400@snudifo-53.fr
SUMMARY:RIS Laval
DESCRIPTION:RIS \n \n 
URL:https://snudifo-53.fr/event/ris-laval-4/
LOCATION:UD FO 53\, 6 rue Souchu Servinière\, Laval\, 53000\, France
CATEGORIES:RIS
END:VEVENT
BEGIN:VEVENT
DTSTART;TZID=Europe/Paris:20260324T173000
DTEND;TZID=Europe/Paris:20260324T203000
DTSTAMP:20260420T133143
CREATED:20260213T130812Z
LAST-MODIFIED:20260213T130812Z
UID:16571-1774373400-1774384200@snudifo-53.fr
SUMMARY:RIS Château-Gontier
DESCRIPTION:RIS
URL:https://snudifo-53.fr/event/ris-chateau-gontier-4/
LOCATION:école élémentaire Azé\, Rue du chant d'oiseau\, Azé\, France
CATEGORIES:RIS
END:VEVENT
END:VCALENDAR