BEGIN:VCALENDAR
VERSION:2.0
PRODID:-//SNUDI-FO 53 - ECPv6.15.17.1//NONSGML v1.0//EN
CALSCALE:GREGORIAN
METHOD:PUBLISH
X-ORIGINAL-URL:https://snudifo-53.fr
X-WR-CALDESC:Évènements pour SNUDI-FO 53
REFRESH-INTERVAL;VALUE=DURATION:PT1H
X-Robots-Tag:noindex
X-PUBLISHED-TTL:PT1H
BEGIN:VTIMEZONE
TZID:Europe/Paris
BEGIN:DAYLIGHT
TZOFFSETFROM:+0100
TZOFFSETTO:+0200
TZNAME:CEST
DTSTART:20240331T010000
END:DAYLIGHT
BEGIN:STANDARD
TZOFFSETFROM:+0200
TZOFFSETTO:+0100
TZNAME:CET
DTSTART:20241027T010000
END:STANDARD
BEGIN:DAYLIGHT
TZOFFSETFROM:+0100
TZOFFSETTO:+0200
TZNAME:CEST
DTSTART:20250330T010000
END:DAYLIGHT
BEGIN:STANDARD
TZOFFSETFROM:+0200
TZOFFSETTO:+0100
TZNAME:CET
DTSTART:20251026T010000
END:STANDARD
BEGIN:DAYLIGHT
TZOFFSETFROM:+0100
TZOFFSETTO:+0200
TZNAME:CEST
DTSTART:20260329T010000
END:DAYLIGHT
BEGIN:STANDARD
TZOFFSETFROM:+0200
TZOFFSETTO:+0100
TZNAME:CET
DTSTART:20261025T010000
END:STANDARD
END:VTIMEZONE
BEGIN:VEVENT
DTSTART;TZID=Europe/Paris:20251007T173000
DTEND;TZID=Europe/Paris:20251007T220000
DTSTAMP:20260422T163259
CREATED:20251006T140448Z
LAST-MODIFIED:20251006T140448Z
UID:15909-1759858200-1759874400@snudifo-53.fr
SUMMARY:RIS Mayenne - école Rosa Parks
DESCRIPTION:  \nMardi 7 octobre\, 17h30 : Ecole Rosa Parks (salle 10) Mayenne \nInscription
URL:https://snudifo-53.fr/event/ris-mayenne-ecole-rosa-parks/
LOCATION:école Rosa Parks Mayenne\, 53 Rue Lamartine\, 53100\, France
CATEGORIES:RIS
END:VEVENT
BEGIN:VEVENT
DTSTART;TZID=Europe/Paris:20251014T180000
DTEND;TZID=Europe/Paris:20251014T210000
DTSTAMP:20260422T163259
CREATED:20251006T142515Z
LAST-MODIFIED:20251006T142515Z
UID:15912-1760464800-1760475600@snudifo-53.fr
SUMMARY:RIS - Changé école du Chemin Vert
DESCRIPTION:Mardi 14 octobre\, 18h00 : Ecole du Chemin Vert Changé \nInscription
URL:https://snudifo-53.fr/event/ris-change-ecole-du-chemin-vert/
LOCATION:école du chemin vert Changé\, Boulevard Saint Roch\, Changé\, 53810\, France
CATEGORIES:RIS
END:VEVENT
END:VCALENDAR